BEGIN:VCALENDAR
VERSION:2.0
PRODID:-//Associated Artists of the Inland Empire - ECPv6.15.20//NONSGML v1.0//EN
CALSCALE:GREGORIAN
METHOD:PUBLISH
X-ORIGINAL-URL:https://associatedartistsinlandempire.org
X-WR-CALDESC:Events for Associated Artists of the Inland Empire
REFRESH-INTERVAL;VALUE=DURATION:PT1H
X-Robots-Tag:noindex
X-PUBLISHED-TTL:PT1H
BEGIN:VTIMEZONE
TZID:America/Los_Angeles
BEGIN:DAYLIGHT
TZOFFSETFROM:-0800
TZOFFSETTO:-0700
TZNAME:PDT
DTSTART:20240310T100000
END:DAYLIGHT
BEGIN:STANDARD
TZOFFSETFROM:-0700
TZOFFSETTO:-0800
TZNAME:PST
DTSTART:20241103T090000
END:STANDARD
BEGIN:DAYLIGHT
TZOFFSETFROM:-0800
TZOFFSETTO:-0700
TZNAME:PDT
DTSTART:20250309T100000
END:DAYLIGHT
BEGIN:STANDARD
TZOFFSETFROM:-0700
TZOFFSETTO:-0800
TZNAME:PST
DTSTART:20251102T090000
END:STANDARD
BEGIN:DAYLIGHT
TZOFFSETFROM:-0800
TZOFFSETTO:-0700
TZNAME:PDT
DTSTART:20260308T100000
END:DAYLIGHT
BEGIN:STANDARD
TZOFFSETFROM:-0700
TZOFFSETTO:-0800
TZNAME:PST
DTSTART:20261101T090000
END:STANDARD
END:VTIMEZONE
BEGIN:VEVENT
DTSTART;TZID=America/Los_Angeles:20250514T093000
DTEND;TZID=America/Los_Angeles:20250514T120000
DTSTAMP:20260423T134320
CREATED:20250413T163908Z
LAST-MODIFIED:20250417T174955Z
UID:3990-1747215000-1747224000@associatedartistsinlandempire.org
SUMMARY:May General Meeting with Aleta Jacobson: Collage
DESCRIPTION:ScreenshotAleta is a working artist\, teacher\, and designer in the Inland Empire who specializes in creating powerful collage\, mixed media\, sketches and watercolor paintings using a variety of tools and materials. Aleta aims to find the beauty and creativity in the everyday.\nAleta is inspired by nature and the environment and focuses her art on botanical illustrations and landscapes. Her work is abstract in nature\, but she still seeks to allow the viewer’s imagination to find familiar images and themes. She creates her work using the same basic design principles and structure that artists have traditionally used. Each piece typically evolves from a thought\, a vision\, a memory\, or a photograph of nature that moves her.
URL:https://associatedartistsinlandempire.org/event/may-general-meeting-with-aleta-jacobson-sketch-and-collage/
LOCATION:Chaffey Community Museum of Art\, 217 S Lemon Ave\, Ontario\,\, CA\, 91784\, United States
END:VEVENT
END:VCALENDAR