BEGIN:VCALENDAR
VERSION:2.0
PRODID:-//Associated Artists of the Inland Empire - ECPv6.15.20//NONSGML v1.0//EN
CALSCALE:GREGORIAN
METHOD:PUBLISH
X-ORIGINAL-URL:https://associatedartistsinlandempire.org
X-WR-CALDESC:Events for Associated Artists of the Inland Empire
REFRESH-INTERVAL;VALUE=DURATION:PT1H
X-Robots-Tag:noindex
X-PUBLISHED-TTL:PT1H
BEGIN:VTIMEZONE
TZID:America/Los_Angeles
BEGIN:DAYLIGHT
TZOFFSETFROM:-0800
TZOFFSETTO:-0700
TZNAME:PDT
DTSTART:20240310T100000
END:DAYLIGHT
BEGIN:STANDARD
TZOFFSETFROM:-0700
TZOFFSETTO:-0800
TZNAME:PST
DTSTART:20241103T090000
END:STANDARD
BEGIN:DAYLIGHT
TZOFFSETFROM:-0800
TZOFFSETTO:-0700
TZNAME:PDT
DTSTART:20250309T100000
END:DAYLIGHT
BEGIN:STANDARD
TZOFFSETFROM:-0700
TZOFFSETTO:-0800
TZNAME:PST
DTSTART:20251102T090000
END:STANDARD
BEGIN:DAYLIGHT
TZOFFSETFROM:-0800
TZOFFSETTO:-0700
TZNAME:PDT
DTSTART:20260308T100000
END:DAYLIGHT
BEGIN:STANDARD
TZOFFSETFROM:-0700
TZOFFSETTO:-0800
TZNAME:PST
DTSTART:20261101T090000
END:STANDARD
END:VTIMEZONE
BEGIN:VEVENT
DTSTART;TZID=America/Los_Angeles:20250409T093000
DTEND;TZID=America/Los_Angeles:20250409T120000
DTSTAMP:20260423T190407
CREATED:20250328T171543Z
LAST-MODIFIED:20250329T002547Z
UID:3950-1744191000-1744200000@associatedartistsinlandempire.org
SUMMARY:April General Meeting  Mark Rush Abstract Painting Demonstration
DESCRIPTION:Please note this is a temporary venue using a local Community Room and we ask you park in the far south part of the church Parking lot. Please click the heading for directions. \nWe are in for a wonderful treat to have Mark Rush return to demonstrate for us his techniques and unique tips on how to paint abstracts. His Abstract Expressionism and Geometric Art is truly eye-catching.
URL:https://associatedartistsinlandempire.org/event/april-general-meeting-mark-rush-abstract-painting-demonstration/
LOCATION:Villa Pacifica II Apartments   7418 Archibald Ave\, Rancho Cucamonga\, Villa Pacifica Apartments 7418 Archibald Ave\, Rancho Cucamonga\, CA\, 91730\, United States
END:VEVENT
END:VCALENDAR