BEGIN:VCALENDAR
VERSION:2.0
PRODID:-//Associated Artists of the Inland Empire - ECPv6.15.20//NONSGML v1.0//EN
CALSCALE:GREGORIAN
METHOD:PUBLISH
X-ORIGINAL-URL:https://associatedartistsinlandempire.org
X-WR-CALDESC:Events for Associated Artists of the Inland Empire
REFRESH-INTERVAL;VALUE=DURATION:PT1H
X-Robots-Tag:noindex
X-PUBLISHED-TTL:PT1H
BEGIN:VTIMEZONE
TZID:America/Los_Angeles
BEGIN:DAYLIGHT
TZOFFSETFROM:-0800
TZOFFSETTO:-0700
TZNAME:PDT
DTSTART:20250309T100000
END:DAYLIGHT
BEGIN:STANDARD
TZOFFSETFROM:-0700
TZOFFSETTO:-0800
TZNAME:PST
DTSTART:20251102T090000
END:STANDARD
BEGIN:DAYLIGHT
TZOFFSETFROM:-0800
TZOFFSETTO:-0700
TZNAME:PDT
DTSTART:20260308T100000
END:DAYLIGHT
BEGIN:STANDARD
TZOFFSETFROM:-0700
TZOFFSETTO:-0800
TZNAME:PST
DTSTART:20261101T090000
END:STANDARD
BEGIN:DAYLIGHT
TZOFFSETFROM:-0800
TZOFFSETTO:-0700
TZNAME:PDT
DTSTART:20270314T100000
END:DAYLIGHT
BEGIN:STANDARD
TZOFFSETFROM:-0700
TZOFFSETTO:-0800
TZNAME:PST
DTSTART:20271107T090000
END:STANDARD
END:VTIMEZONE
BEGIN:VEVENT
DTSTART;TZID=America/Los_Angeles:20260311T093000
DTEND;TZID=America/Los_Angeles:20260311T120000
DTSTAMP:20260422T151543
CREATED:20260227T223711Z
LAST-MODIFIED:20260303T153511Z
UID:4543-1773221400-1773230400@associatedartistsinlandempire.org
SUMMARY:March 2026 General Meeting with JoAnn Formia
DESCRIPTION:This month Associated Artists of the Inland Empire proudly presents fine art artist JoAnn Formia\, watercolorist. Her artistic journey is a testament to passion\, perseverance\, and a lifelong love for painting.  Joann has won numerous awards from art organizations in the Inland Valley and southland. She serves on the Watercolor West Board of Directors and holds Signature Membership in the following Organizations: American Watercolor Society\, Transparent Watercolor Society\, California Watercolor Association\, San Diego Watercolor Society\, Watercolor West (Master).  Joann attributes her in growth and inspiration with art through her fabulous opportunity over the years to travel and work with many iconic painters. What a treat to hear about her journey in art and the valuable gathered tidbits of knowledge and techniques gleaned along the way.
URL:https://associatedartistsinlandempire.org/event/march-2026-general-meeting-with-joann-formia/
LOCATION:Chaffey Community Museum of Art
END:VEVENT
BEGIN:VEVENT
DTSTART;TZID=America/Los_Angeles:20260408T093000
DTEND;TZID=America/Los_Angeles:20260408T120000
DTSTAMP:20260422T151543
CREATED:20260405T060401Z
LAST-MODIFIED:20260405T060401Z
UID:4561-1775640600-1775649600@associatedartistsinlandempire.org
SUMMARY:April 2026 General Meeting: Sketching from Live Models
DESCRIPTION:Something Different this month. Come join your artist friends  sketch from live models.  Sketch paper\, pencil and clipboards will be provided to allow you to sketch\, too.  Come  be inspired by sketching on your own with the opportunity to observe two of our own artist members create along with you.
URL:https://associatedartistsinlandempire.org/event/april-2026-general-meeting-sketching-from-live-models/
LOCATION:Chaffey Community Museum of Art\, 217 S Lemon Ave\, Ontario\,\, CA\, 91784\, United States
END:VEVENT
END:VCALENDAR