BEGIN:VCALENDAR
VERSION:2.0
PRODID:-//Associated Artists of the Inland Empire - ECPv6.15.20//NONSGML v1.0//EN
CALSCALE:GREGORIAN
METHOD:PUBLISH
X-WR-CALNAME:Associated Artists of the Inland Empire
X-ORIGINAL-URL:https://associatedartistsinlandempire.org
X-WR-CALDESC:Events for Associated Artists of the Inland Empire
REFRESH-INTERVAL;VALUE=DURATION:PT1H
X-Robots-Tag:noindex
X-PUBLISHED-TTL:PT1H
BEGIN:VTIMEZONE
TZID:America/Los_Angeles
BEGIN:DAYLIGHT
TZOFFSETFROM:-0800
TZOFFSETTO:-0700
TZNAME:PDT
DTSTART:20240310T100000
END:DAYLIGHT
BEGIN:STANDARD
TZOFFSETFROM:-0700
TZOFFSETTO:-0800
TZNAME:PST
DTSTART:20241103T090000
END:STANDARD
BEGIN:DAYLIGHT
TZOFFSETFROM:-0800
TZOFFSETTO:-0700
TZNAME:PDT
DTSTART:20250309T100000
END:DAYLIGHT
BEGIN:STANDARD
TZOFFSETFROM:-0700
TZOFFSETTO:-0800
TZNAME:PST
DTSTART:20251102T090000
END:STANDARD
BEGIN:DAYLIGHT
TZOFFSETFROM:-0800
TZOFFSETTO:-0700
TZNAME:PDT
DTSTART:20260308T100000
END:DAYLIGHT
BEGIN:STANDARD
TZOFFSETFROM:-0700
TZOFFSETTO:-0800
TZNAME:PST
DTSTART:20261101T090000
END:STANDARD
BEGIN:DAYLIGHT
TZOFFSETFROM:-0800
TZOFFSETTO:-0700
TZNAME:PDT
DTSTART:20270314T100000
END:DAYLIGHT
BEGIN:STANDARD
TZOFFSETFROM:-0700
TZOFFSETTO:-0800
TZNAME:PST
DTSTART:20271107T090000
END:STANDARD
END:VTIMEZONE
BEGIN:VEVENT
DTSTART;VALUE=DATE:20250612
DTEND;VALUE=DATE:20250713
DTSTAMP:20260423T151622
CREATED:20250521T234828Z
LAST-MODIFIED:20250530T231942Z
UID:4019-1749686400-1752364799@associatedartistsinlandempire.org
SUMMARY:"Summer Love"  Art Show June 12- july 12 2025
DESCRIPTION:Early Registration June 1-June 10 with on site registration the day of take in June 12 2025 1:00 pm to 5:00 pm at Rancho Cucamonga Community Center at Central Park  1200 Base Line Rd\, Rancho Cucamonga  \n•	Register your entry at  aaieshows25@gmail.com\n•	In the Email list the following:Art Piece Name (Title): Artist Name: Phone #: Email:Medium:Art Size: Jpeg photo Optional:Art Sale Price: \nPLEASE PAY ON LINE AT https://associatedartistsinlandempire.org/product-category/art-show-payment/ \nCall for Early Entries. June 1 to June 10.\nAAIE members  1st Entry $8.00\,  2nd Entry $5.00\nNon Members   1st Entry $15.00. 2nd Entry $10.00 \nor bring you art work on the Day of TAKE IN June 12\nAAIE members  1st Entry $10.00\, 2nd Entry $8.00\nNon Members   1st Entry $20.00. 2nd Entry $10.00 \nTAKE IN:  Thursday\, JUNE 12 1 PM TO 5 PM\nPICK UP:  Saturday\, JULY 12 1 PM TO 5 PM \nArt work must be framed and wired for display hanging.\nArtwork must be labeled on the back with: artist’s name\, contact information\, art title\, and sale price.\nEach participant must sign a loan agreement with the city of Rancho Cucamonga: Forms will be provided the day of ART DROP off on JUNE 12 1 pm to 5 pm
URL:https://associatedartistsinlandempire.org/event/summer-love-art-show/
LOCATION:Rancho Cucamonga Community Center @ Central Park\, 11200 Baseline Rd\, Rancho Cucamonga\, CA\, 91701\, United States
END:VEVENT
BEGIN:VEVENT
DTSTART;TZID=America/Los_Angeles:20250709T093000
DTEND;TZID=America/Los_Angeles:20250709T120000
DTSTAMP:20260423T151622
CREATED:20250413T164304Z
LAST-MODIFIED:20250627T001322Z
UID:3994-1752053400-1752062400@associatedartistsinlandempire.org
SUMMARY:July General Meeting Jeni Bates
DESCRIPTION:You are in for a treat with this multi-talented artist.  Jeni\, draws\, creates\, writes poetry with her style she calls “Refracturing”  technique. The refracturing collage technique\, particularly as described by artist Jeni Bate\, involves creating a new artwork by first creating a scene or image (often by painting it multiple times with variations)\, then cutting it up\, and finally reassembling the fragments into a collage. \nKey aspects of this technique:\n\nFragmentation and Reassembly: The core of the technique involves breaking down a cohesive image into pieces (like cutting or tearing)\, and then reassembling those pieces to create a new composition.\nCreating a “Different Version”: The goal is not just to recreate the original image\, but to transform it into something new and different through the process of fracturing and reassembly.\nAbstraction and Energy: This technique can abstract the original image\, giving it a more dynamic and energetic quality.\nApplication: While Bate’s definition focuses on the wholesale reworking of a single image\, the technique can also be applied to individual elements within a larger collage. 
URL:https://associatedartistsinlandempire.org/event/july-general-meeting-jeni-bates/
LOCATION:Chaffey Community Museum of Art
END:VEVENT
BEGIN:VEVENT
DTSTART;TZID=America/Los_Angeles:20250813T093000
DTEND;TZID=America/Los_Angeles:20250813T120000
DTSTAMP:20260423T151622
CREATED:20250413T164435Z
LAST-MODIFIED:20250730T214824Z
UID:3996-1755077400-1755086400@associatedartistsinlandempire.org
SUMMARY:August General Meeting with Christine White using Oils
DESCRIPTION:Christine White is a painter and naturalist. She holds a Masters in Geography from University of South Carolina\, and moved to Redlands\, California to work for a mapping software company. In 2019\, she left the tech industry to pursue art full time\, with a personal mission to use her paintings to build kinder bonds with the people\, creatures\, \nand places we encounter. Lately she has been creating art using items we normally discard: plastic; fabric; scraps; old wiring. The challenge is to incorporate these materials mindfully so the result is a beautiful piece that just happens to be made from trash. In addition to creating her art\, Christine also juries art shows\, models for life drawing classes\, teaches painting workshops\, and is on the art teaching staff at the UCLA Lake Arrowhead Lodge. She is an artist in residence at The Los Angeles Makery.
URL:https://associatedartistsinlandempire.org/event/august-general-meeting-with-christine-white/
LOCATION:CA
END:VEVENT
BEGIN:VEVENT
DTSTART;TZID=America/Los_Angeles:20250910T093000
DTEND;TZID=America/Los_Angeles:20250910T120000
DTSTAMP:20260423T151622
CREATED:20250413T164814Z
LAST-MODIFIED:20250827T184022Z
UID:3998-1757496600-1757505600@associatedartistsinlandempire.org
SUMMARY:September  General Meeting CAT DAY with Ketih Klingonsmith
DESCRIPTION:Our September Meeting is C A T DAY is  CREATING ART TOGETHER This event was Inspired by past president Steve Loya. \nSo\, bring your watercolor paints\, pencils or pens\, or any supplies you need and plan on creating with your fellow members. This event always is a popular one which gives us time to chat and create art and get to know one another better. Even if you don’t want to do your art\, come anyway  as it is always fun to just chat with your art friends.  Keith will give us a brief overview of his art career and then walk among us for tips and pointers and create on his own.
URL:https://associatedartistsinlandempire.org/event/september-general-meeting-with-ketih-klingonsmith/
LOCATION:CA
END:VEVENT
BEGIN:VEVENT
DTSTART;TZID=America/Los_Angeles:20251009T093000
DTEND;TZID=America/Los_Angeles:20251009T120000
DTSTAMP:20260423T151622
CREATED:20250413T165113Z
LAST-MODIFIED:20250928T000111Z
UID:4002-1760002200-1760011200@associatedartistsinlandempire.org
SUMMARY:October General Meeting  Ray Tucker
DESCRIPTION:Join us this HALLOWEEN MONTH\, with artist\, Ray Tucker as he paints and talks about being ‘true to \nyourcreative  self’. Ray has vast experience\, an AAIE Honorary Member former AAIE President\, and \nart instructor and studio owner. After teaching at Mt. San Antonio College for over 40 years\, \nit was time for Ray to discover who he really was as an artist. An accumulated art supply was perfect for \nmixed creativity. Ray will be discussing why we create art\, how to discover your style\, being mindful of \nyour process and how your art is a reflection of your life experiences. Bring a clip board & soft graphite \nPencil. Ray has a fun exercise for our members to participate in….for a PRIZE!
URL:https://associatedartistsinlandempire.org/event/october-general-meeting-ray-tucker-flowers-using-acrylics/
LOCATION:Chaffey Community Museum of Art
END:VEVENT
BEGIN:VEVENT
DTSTART;VALUE=DATE:20251106
DTEND;VALUE=DATE:20251205
DTSTAMP:20260423T151622
CREATED:20251029T235335Z
LAST-MODIFIED:20251029T235943Z
UID:4405-1762387200-1764892799@associatedartistsinlandempire.org
SUMMARY:Holiday Expressions Art Show
DESCRIPTION:Holiday Expressions Show Flyer pdf \nJoin in this wonderful holiday \,Open Theme\, any size\, AAIE art show at Central Park Rancho Cucamonga \nTake in Nov 6 11:00 am to 4:00 pm \nTake Down Dec 4  11:00am to 4:00 pm \nTO PARTICIPATE :  Please email or text Hollie with your Name\, Title of Art Piece/s \, sales price of NFS and your daytime phone contact  to Hollie at :   htwin4@hotmail.com or Cell 909 772-7006.
URL:https://associatedartistsinlandempire.org/event/holiday-expressions-art-show/
LOCATION:Rancho Cucamonga Community Center @ Central Park\, 11200 Baseline Rd\, Rancho Cucamonga\, CA\, 91701\, United States
END:VEVENT
BEGIN:VEVENT
DTSTART;TZID=America/Los_Angeles:20251112T093000
DTEND;TZID=America/Los_Angeles:20251112T120000
DTSTAMP:20260423T151622
CREATED:20250413T165332Z
LAST-MODIFIED:20251029T234800Z
UID:4004-1762939800-1762948800@associatedartistsinlandempire.org
SUMMARY:November General Meeting with Sherif Hakeem using White Chalk on Black
DESCRIPTION:Charcoal Portraits that bring awareness to endangered wildlife. \nHyper-realism at its best \n  \n 
URL:https://associatedartistsinlandempire.org/event/november-general-meeting-with-sherif-hakeem-using-white-chalk-on-black/
LOCATION:CA
END:VEVENT
BEGIN:VEVENT
DTSTART;TZID=America/Los_Angeles:20251210T100000
DTEND;TZID=America/Los_Angeles:20251210T120000
DTSTAMP:20260423T151622
CREATED:20250413T165600Z
LAST-MODIFIED:20251126T224357Z
UID:4007-1765360800-1765368000@associatedartistsinlandempire.org
SUMMARY:Holiday Party Pot Luck
DESCRIPTION:You can download our Dec 2025 Newsletter for more information \n10:00 to ? 3:00 ish if you wish \nCome join us at Pechez’s beautiful home at 5018 Crestview Alta Loma\, CA 91701.  Map below \nBring: \n\nA favorite brunch dish or treat for Pot Luck\nOne art gift for exchanging.  Often this is something you made but need not be.\nYour best holiday spirit to share food and have fun with your AAIE friends
URL:https://associatedartistsinlandempire.org/event/holiday-party/
LOCATION:Pechez’s Home\, 5018 Crestview Place\, Alta Loma\, CA\, 91701\, United States
END:VEVENT
BEGIN:VEVENT
DTSTART;TZID=America/Los_Angeles:20260107T093000
DTEND;TZID=America/Los_Angeles:20260107T120000
DTSTAMP:20260423T151622
CREATED:20251222T221831Z
LAST-MODIFIED:20251222T222110Z
UID:4431-1767778200-1767787200@associatedartistsinlandempire.org
SUMMARY:January General Meeting\, Elizabeth  Tucker: Plallette Color Mixing
DESCRIPTION:Want more control over your painting palette? Tired of only getting mud or colors with less vibrance? Elizabeth will discuss the color wheel to help us develop a more thorough understanding of color\, how to choose our colors\, and how to mix them to give us the broadest range of color and value.
URL:https://associatedartistsinlandempire.org/event/january-general-meeting-elizabeth-tucker-plallette-color-mixing/
LOCATION:Chaffey Community Museum of Art\, 217 S Lemon Ave\, Ontario\,\, CA\, 91784\, United States
END:VEVENT
BEGIN:VEVENT
DTSTART;TZID=America/Los_Angeles:20260211T093000
DTEND;TZID=America/Los_Angeles:20260211T120000
DTSTAMP:20260423T151622
CREATED:20260207T220959Z
LAST-MODIFIED:20260208T180531Z
UID:4509-1770802200-1770811200@associatedartistsinlandempire.org
SUMMARY:February General Meeting with Karen Clark Watercolorist
DESCRIPTION:We are in  for a treat.  Don’t miss this session with Karen Clark as she shares her tips and techniques using watercolor.  Karen is a watercolorist but also has a master’s degree in Fiber from UCLA and does beautiful weaving. She teaches two watercolor classes a week at Central Park Rancho Cucamonga and loves sharing her knowledge with her students. Her beautiful watercolor art can be seen  both in local  and internationally galleries. Today’s  demonstration will  focus on watercolor techniques that help an artist achieve realistic images in a much easier\, faster and clearest way.
URL:https://associatedartistsinlandempire.org/event/february-general-meeting-karen-clark-watercolorist/
LOCATION:Chaffey Community Museum of Art\, 217 S Lemon Ave\, Ontario\,\, CA\, 91784\, United States
END:VEVENT
BEGIN:VEVENT
DTSTART;TZID=America/Los_Angeles:20260311T093000
DTEND;TZID=America/Los_Angeles:20260311T120000
DTSTAMP:20260423T151622
CREATED:20260227T223711Z
LAST-MODIFIED:20260303T153511Z
UID:4543-1773221400-1773230400@associatedartistsinlandempire.org
SUMMARY:March 2026 General Meeting with JoAnn Formia
DESCRIPTION:This month Associated Artists of the Inland Empire proudly presents fine art artist JoAnn Formia\, watercolorist. Her artistic journey is a testament to passion\, perseverance\, and a lifelong love for painting.  Joann has won numerous awards from art organizations in the Inland Valley and southland. She serves on the Watercolor West Board of Directors and holds Signature Membership in the following Organizations: American Watercolor Society\, Transparent Watercolor Society\, California Watercolor Association\, San Diego Watercolor Society\, Watercolor West (Master).  Joann attributes her in growth and inspiration with art through her fabulous opportunity over the years to travel and work with many iconic painters. What a treat to hear about her journey in art and the valuable gathered tidbits of knowledge and techniques gleaned along the way.
URL:https://associatedartistsinlandempire.org/event/march-2026-general-meeting-with-joann-formia/
LOCATION:Chaffey Community Museum of Art
END:VEVENT
BEGIN:VEVENT
DTSTART;TZID=America/Los_Angeles:20260408T093000
DTEND;TZID=America/Los_Angeles:20260408T120000
DTSTAMP:20260423T151622
CREATED:20260405T060401Z
LAST-MODIFIED:20260405T060401Z
UID:4561-1775640600-1775649600@associatedartistsinlandempire.org
SUMMARY:April 2026 General Meeting: Sketching from Live Models
DESCRIPTION:Something Different this month. Come join your artist friends  sketch from live models.  Sketch paper\, pencil and clipboards will be provided to allow you to sketch\, too.  Come  be inspired by sketching on your own with the opportunity to observe two of our own artist members create along with you.
URL:https://associatedartistsinlandempire.org/event/april-2026-general-meeting-sketching-from-live-models/
LOCATION:Chaffey Community Museum of Art\, 217 S Lemon Ave\, Ontario\,\, CA\, 91784\, United States
END:VEVENT
END:VCALENDAR