BEGIN:VCALENDAR
VERSION:2.0
PRODID:-//Associated Artists of the Inland Empire - ECPv6.15.20//NONSGML v1.0//EN
CALSCALE:GREGORIAN
METHOD:PUBLISH
X-ORIGINAL-URL:https://associatedartistsinlandempire.org
X-WR-CALDESC:Events for Associated Artists of the Inland Empire
REFRESH-INTERVAL;VALUE=DURATION:PT1H
X-Robots-Tag:noindex
X-PUBLISHED-TTL:PT1H
BEGIN:VTIMEZONE
TZID:America/Los_Angeles
BEGIN:DAYLIGHT
TZOFFSETFROM:-0800
TZOFFSETTO:-0700
TZNAME:PDT
DTSTART:20210314T100000
END:DAYLIGHT
BEGIN:STANDARD
TZOFFSETFROM:-0700
TZOFFSETTO:-0800
TZNAME:PST
DTSTART:20211107T090000
END:STANDARD
BEGIN:DAYLIGHT
TZOFFSETFROM:-0800
TZOFFSETTO:-0700
TZNAME:PDT
DTSTART:20220313T100000
END:DAYLIGHT
BEGIN:STANDARD
TZOFFSETFROM:-0700
TZOFFSETTO:-0800
TZNAME:PST
DTSTART:20221106T090000
END:STANDARD
BEGIN:DAYLIGHT
TZOFFSETFROM:-0800
TZOFFSETTO:-0700
TZNAME:PDT
DTSTART:20230312T100000
END:DAYLIGHT
BEGIN:STANDARD
TZOFFSETFROM:-0700
TZOFFSETTO:-0800
TZNAME:PST
DTSTART:20231105T090000
END:STANDARD
END:VTIMEZONE
BEGIN:VEVENT
DTSTART;TZID=America/Los_Angeles:20220510T093000
DTEND;TZID=America/Los_Angeles:20220510T103000
DTSTAMP:20260423T022057
CREATED:20220423T001544Z
LAST-MODIFIED:20220423T001943Z
UID:1843-1652175000-1652178600@associatedartistsinlandempire.org
SUMMARY:Roxanne Tamberem - monotype
DESCRIPTION:Roxanne Tamberen was born in Upland\, California. She was educated at the prestigious Art Center College of Design in Pasadena\, where she majored in painting. Roxanne’s medium is the monotype\, which is a very unique way of making a one of a kind painting. The scene is painted on plexiglass in oil or ink\, and the artist rubs out the white areas so that those areas show through to the paper\, once the ink or paint has been transferred from the plexiglass onto the paper with a roller press. \nEach time the painting is “pulled”\, it is a thrill and surprise to see the effect of this rubbing out process\, and Roxanne feel so fortunate to have a printing press and the knowledge of this unique medium to share with her audience her love of color and shape\, as well as this unique vision she loves to share of outdoor travel.
URL:https://associatedartistsinlandempire.org/event/roxanne-tamberem-monotype/
LOCATION:ZOOM
CATEGORIES:Zoom Class
ATTACH;FMTTYPE=image/jpeg:https://associatedartistsinlandempire.org/wp-content/uploads/2022/04/rox-tam-motorhome.jpg
END:VEVENT
BEGIN:VEVENT
DTSTART;TZID=America/Los_Angeles:20220209T093000
DTEND;TZID=America/Los_Angeles:20220209T103000
DTSTAMP:20260423T022057
CREATED:20220124T212250Z
LAST-MODIFIED:20220125T003721Z
UID:1028-1644399000-1644402600@associatedartistsinlandempire.org
SUMMARY:Jeni Bate: Refractured Watercolor Technique
DESCRIPTION:Join us on Zoom as Jeni shares her signature refractured watercolor technique. \n“I paint the skies with peace and passion\, because that’s the way they paint me.”   \n  \n \nJeni Bate lives in Salton City\, California – though she grew up in Wales.  As a child\, she enjoyed painting\, but as a teenager art gave way to academics. \nIn 2001\, Jeni was working on photography but soon had an epiphany: “Now\, you have to paint!” .  She subsequently studied in evening classes and at a teaching studio to hone her skills. One of the things that allowed Jeni to develop her voice quickly was having teachers who taught materials handling and composition\, but not style; why\, not just how.  These are important aspects of her own teaching. \nThe sky is her primary subject – both now and in childhood paintings. \nJeni began painting in watercolor\, subsequently adding acrylics and oils.   A series of errors progressed into her signature refractured watercolor technique.  She later met quilters who likened her reorganized images to ‘refractured quilting’\, so she stole the word. \nAs the years have progressed she developed her technique to meld acrylic with refractured watercolor and frequently adding poetry\, written for and included in the painting.  Poetry was part of her Welsh cultural heritage and this is one of three ways that she puts the two sides of her creativity together.  Her work continues to develop towards more abstract compositions.  Occasional workshops and technique specific lessons (e.g. learning how to use a jigsaw) have influenced her progress. \nJeni believes that her role as an artist is to make people think twice about the sky.  How it works\, how we underappreciate and pollute it\, and how it is ultimately\, where we live. \nP.O. Box 5239\nSalton City\, CA 92275\n(310) 720-1552 \nskyscapesforthesoul@gmail.com \nwww.skyscapesforthesoul.com
URL:https://associatedartistsinlandempire.org/event/jeni-bate-refractured-watercolor-technique/
LOCATION:ZOOM
CATEGORIES:Zoom Class
ATTACH;FMTTYPE=image/jpeg:https://associatedartistsinlandempire.org/wp-content/uploads/2022/01/1238amazingstorm_w.jpg
END:VEVENT
BEGIN:VEVENT
DTSTART;TZID=America/Los_Angeles:20220112T093000
DTEND;TZID=America/Los_Angeles:20220112T103000
DTSTAMP:20260423T022057
CREATED:20211231T193845Z
LAST-MODIFIED:20220106T234025Z
UID:777-1641979800-1641983400@associatedartistsinlandempire.org
SUMMARY:Linda Caplette: Glass Artistry Demonstration
DESCRIPTION:Join us on Zoom as Linda shows off excellent examples of her work\, and how she designs and assembles in her workshop. \nBorn in North Carolina and raised in California\, Linda Caplette came from an artistic family and hence inherited her artistic flair\, which encompasses more than her passion of stained glass artistry. \nFor over thirty years Linda has honed her craft and now sells her beautiful creations online. \nSince retiring from the business industry ten years ago\, her efforts have been focused on improving her techniques while incorporating strength into her projects and branching out to three-dimensional pieces. Linda not only repairs the glass work of others\, but designs original panels\, bringing her multiple skills and visions to life. Examples of her glass pieces can be viewed or purchased on her website: https://capletteartistry.com/ \nFree for members. $3 for non-members.
URL:https://associatedartistsinlandempire.org/event/777/
LOCATION:ZOOM
CATEGORIES:Zoom Class
ATTACH;FMTTYPE=image/jpeg:https://associatedartistsinlandempire.org/wp-content/uploads/2021/12/Linda-Caplette.jpg
END:VEVENT
END:VCALENDAR