BEGIN:VCALENDAR
VERSION:2.0
PRODID:-//Associated Artists of the Inland Empire - ECPv6.15.20//NONSGML v1.0//EN
CALSCALE:GREGORIAN
METHOD:PUBLISH
X-WR-CALNAME:Associated Artists of the Inland Empire
X-ORIGINAL-URL:https://associatedartistsinlandempire.org
X-WR-CALDESC:Events for Associated Artists of the Inland Empire
REFRESH-INTERVAL;VALUE=DURATION:PT1H
X-Robots-Tag:noindex
X-PUBLISHED-TTL:PT1H
BEGIN:VTIMEZONE
TZID:America/Los_Angeles
BEGIN:DAYLIGHT
TZOFFSETFROM:-0800
TZOFFSETTO:-0700
TZNAME:PDT
DTSTART:20210314T100000
END:DAYLIGHT
BEGIN:STANDARD
TZOFFSETFROM:-0700
TZOFFSETTO:-0800
TZNAME:PST
DTSTART:20211107T090000
END:STANDARD
BEGIN:DAYLIGHT
TZOFFSETFROM:-0800
TZOFFSETTO:-0700
TZNAME:PDT
DTSTART:20220313T100000
END:DAYLIGHT
BEGIN:STANDARD
TZOFFSETFROM:-0700
TZOFFSETTO:-0800
TZNAME:PST
DTSTART:20221106T090000
END:STANDARD
BEGIN:DAYLIGHT
TZOFFSETFROM:-0800
TZOFFSETTO:-0700
TZNAME:PDT
DTSTART:20230312T100000
END:DAYLIGHT
BEGIN:STANDARD
TZOFFSETFROM:-0700
TZOFFSETTO:-0800
TZNAME:PST
DTSTART:20231105T090000
END:STANDARD
BEGIN:DAYLIGHT
TZOFFSETFROM:-0800
TZOFFSETTO:-0700
TZNAME:PDT
DTSTART:20240310T100000
END:DAYLIGHT
BEGIN:STANDARD
TZOFFSETFROM:-0700
TZOFFSETTO:-0800
TZNAME:PST
DTSTART:20241103T090000
END:STANDARD
BEGIN:DAYLIGHT
TZOFFSETFROM:-0800
TZOFFSETTO:-0700
TZNAME:PDT
DTSTART:20250309T100000
END:DAYLIGHT
BEGIN:STANDARD
TZOFFSETFROM:-0700
TZOFFSETTO:-0800
TZNAME:PST
DTSTART:20251102T090000
END:STANDARD
BEGIN:DAYLIGHT
TZOFFSETFROM:-0800
TZOFFSETTO:-0700
TZNAME:PDT
DTSTART:20260308T100000
END:DAYLIGHT
BEGIN:STANDARD
TZOFFSETFROM:-0700
TZOFFSETTO:-0800
TZNAME:PST
DTSTART:20261101T090000
END:STANDARD
END:VTIMEZONE
BEGIN:VEVENT
DTSTART;TZID=America/Los_Angeles:20250108T093000
DTEND;TZID=America/Los_Angeles:20250108T120000
DTSTAMP:20260422T195936
CREATED:20250108T001501Z
LAST-MODIFIED:20250127T213023Z
UID:3834-1736328600-1736337600@associatedartistsinlandempire.org
SUMMARY:General Meeting.  Wed. January 8\, 2025. Joe Oakes Acrylic Artist
DESCRIPTION:  \nArtist\, Instructor\, Colorist and Nature Lover. Each painting is an emotional response to color… real or imagined but always felt. I choose to express those feelings through the use of bold\, vibrant highlights and shadows of violet hues. My work is about the joy that color can bring into our lives. My aim is to promote an awareness of nature\, especially its infinite use of colorr.
URL:https://associatedartistsinlandempire.org/event/general-meeting-wed-january-8-2025/
LOCATION:Chaffey Community Museum of Art
CATEGORIES:General Meeting
END:VEVENT
BEGIN:VEVENT
DTSTART;TZID=America/Los_Angeles:20240410T093000
DTEND;TZID=America/Los_Angeles:20240410T120000
DTSTAMP:20260422T195936
CREATED:20240325T222012Z
LAST-MODIFIED:20240325T223222Z
UID:3579-1712741400-1712750400@associatedartistsinlandempire.org
SUMMARY:General Meeting April 10\, 2024
DESCRIPTION:Join us for a Golden Art Demonstration with Kathryn Duncan. This is always a favorite program and you will not want to miss this one.  Come see all the exciting new art products with a focus on watercolor.  \nsee more
URL:https://associatedartistsinlandempire.org/event/general-meeting-april-10-2024/
LOCATION:Upland Public Library\, 217 N. Lemon\, Ontario\, CA\, 91761\, United States
CATEGORIES:General Meeting
END:VEVENT
BEGIN:VEVENT
DTSTART;TZID=America/Los_Angeles:20221214T100000
DTEND;TZID=America/Los_Angeles:20221214T130000
DTSTAMP:20260422T195936
CREATED:20221127T173027Z
LAST-MODIFIED:20221127T184449Z
UID:2543-1671012000-1671022800@associatedartistsinlandempire.org
SUMMARY:AAIE Holiday Brunch Party
DESCRIPTION:  \nCome Join the Holiday gathering  at Pechez’s Home \n5018 Crestview Place \nAlta Loma\, 91701 \nBring a wrapped art piece (Maybe something you made) for the Gift Exchange \nAnd a Brunch Finger Food Dish \nRSVP (661) 433-0501  OR pechezsepehri@gmail.com
URL:https://associatedartistsinlandempire.org/event/aaie-holiday-brunch-party/
LOCATION:Pechez’s Home\, 5018 Crestview Place\, Alta Loma\, CA\, 91701\, United States
CATEGORIES:General Meeting,Special Event
ATTACH;FMTTYPE=image/jpeg:https://associatedartistsinlandempire.org/wp-content/uploads/2022/11/al-elmes-qO86_0lkjDc-unsplash-scaled.jpeg
END:VEVENT
BEGIN:VEVENT
DTSTART;TZID=America/Los_Angeles:20220915T093000
DTEND;TZID=America/Los_Angeles:20220915T113000
DTSTAMP:20260422T195936
CREATED:20220815T005957Z
LAST-MODIFIED:20221127T185818Z
UID:2344-1663234200-1663241400@associatedartistsinlandempire.org
SUMMARY:Event on Thursday-Frank Carrillo- Paper Mache Demo
DESCRIPTION:I began sculpting when I saw a video of Dan Reeder making a dragon. I noticed on the video the artist made the dragons the same way I made my children’s piñatas. After making my first dragon\, my family and I were shocked at how good it was. It began as a hobby on my days off from managing a pharmacy some 5 years ago. Now I want to dedicate my entire time to sculpting and teaching how to make these mythical creations. I still make piñatas but only to teach parents and children how to make them both on our YouTube channel and in person.\nMy work has been featured at museums\, libraries\, schools\, and even the renaissance Fairies in Wisconsin and Irwindale. I have also used my dragons to read children’s dragon books to help the school bring more involvement from parents in their children’s reading. The Ontario Museum of History and Art has showcased my artwork for three different years; this is very special to me because my family gets to see my sculptures displayed professionally at an amazing Museum. However\, my most memorable accomplishment is donating two large-scale dragons to help raise money for pancreatic cancer research. I drove the dragons from Pomona to Seattle non-stop and when arriving there were news channels waiting for me. I forgot I was tired and enjoyed every minute of that warm welcome. The project was named “Diagon Alley Project” and it drew thousands of people daily to see the Harry Potter replica at a father’s driveway with dragons from Los Angeles. The project helped raise $45\,000 and the memories are priceless.\nMy work is mixed media with the primary forms being Paper Mache and air dry clay. I also use my daughter’s old bedsheets to create a leather-like texture. My goal in every piece is to leave the viewer wondering what medium was used as I pursue the most realistic look with the acrylic finish.\nPlease support me by subscribing to my YouTube channel @dynamicmache\nThank you\, Frank Carrillo
URL:https://associatedartistsinlandempire.org/event/frank-carrillo-paper-mache-demo/
LOCATION:Ontario Museum of History and Art\, 225 South Euclid Ave\, Ontario\, CA\, 91762\, United States
CATEGORIES:General Meeting
ATTACH;FMTTYPE=image/jpeg:https://associatedartistsinlandempire.org/wp-content/uploads/2022/08/Screenshot_20211018-155659_Photos.jpg
END:VEVENT
END:VCALENDAR